BEGIN:VCALENDAR
VERSION:2.0
PRODID:-//Parramatta Leagues Club - ECPv6.15.16.1//NONSGML v1.0//EN
CALSCALE:GREGORIAN
METHOD:PUBLISH
X-WR-CALNAME:Parramatta Leagues Club
X-ORIGINAL-URL:https://www.parraleagues.com.au
X-WR-CALDESC:Events for Parramatta Leagues Club
REFRESH-INTERVAL;VALUE=DURATION:PT1H
X-Robots-Tag:noindex
X-PUBLISHED-TTL:PT1H
BEGIN:VTIMEZONE
TZID:Australia/Sydney
BEGIN:STANDARD
TZOFFSETFROM:+1100
TZOFFSETTO:+1000
TZNAME:AEST
DTSTART:20250405T160000
END:STANDARD
BEGIN:DAYLIGHT
TZOFFSETFROM:+1000
TZOFFSETTO:+1100
TZNAME:AEDT
DTSTART:20251004T160000
END:DAYLIGHT
BEGIN:STANDARD
TZOFFSETFROM:+1100
TZOFFSETTO:+1000
TZNAME:AEST
DTSTART:20260404T160000
END:STANDARD
BEGIN:DAYLIGHT
TZOFFSETFROM:+1000
TZOFFSETTO:+1100
TZNAME:AEDT
DTSTART:20261003T160000
END:DAYLIGHT
BEGIN:STANDARD
TZOFFSETFROM:+1100
TZOFFSETTO:+1000
TZNAME:AEST
DTSTART:20270403T160000
END:STANDARD
BEGIN:DAYLIGHT
TZOFFSETFROM:+1000
TZOFFSETTO:+1100
TZNAME:AEDT
DTSTART:20271002T160000
END:DAYLIGHT
END:VTIMEZONE
BEGIN:VEVENT
DTSTART;VALUE=DATE:20260425
DTEND;VALUE=DATE:20260426
DTSTAMP:20260425T022043
CREATED:20260414T001739Z
LAST-MODIFIED:20260414T001739Z
UID:990007174-1777075200-1777161599@www.parraleagues.com.au
SUMMARY:Wanderers vs Melbourne Victory
DESCRIPTION:On Saturday the 25th April\, The Western Sydney Wanderers take on Melbourne Victory! \nParramatta Leagues is the perfect place to kick off your match day — park easily in our large\, secure carpark within walking distance of the stadium\, soak up the build-up\, then join us before and after the game for food\, drinks and a great atmosphere with fellow fans. Whether you’re cheering on your team or here for the fun\, we’ve got you covered! \nDate: 25th April\nKick off: 7:35pm \nDining Services at Parra Leagues Club: \n\nThe Bistro menu \n\n– Lunch 11:30am – 2:30pm\n– Dinner 5:30pm – 9:00pm\n\n\nK’s Noodle Bar menu\n\n– Lunch 11:30am – 2:30pm\n– Dinner 5:30pm – 9:00pm\n\n\nJacks Cucina menu \n\n– Lunch 12:00pm – 3:00pm\n– Dinner 4:30pm – 9:00pm\n\n\nSterlo’s Sports Bar menu\n\n– Open form 12:00pm till late\n\n\nMembers Lounge menu\n\n– Open from 9:00am till late\n\n\n\n  \nCar Park – Avoid the crowds and enjoy FREE car parking between 9:00am and 4:35pm. Car park boom gates will be lifted after the commencement of kick off at 08:05pm. \nParra Leagues Members $20 from 4:35pm – 8:05pm \n\n– Insert your Parra Leagues Membership card at the car park boom gate.\n– The screen will then indicate the $20 discounted rate.\n– Pay on entry at the boom gate via tap & go Debit/Credit Card\n– You must be a Parra Leagues Member with a valid Membership card\, prior to attending Parra Leagues on the Event Day to be eligible for the Membership rates. You will need your printed Membership card in order to gain entry at the boom gate.\n\n  \nVisitors $35 from 4:35pm – 8:05pm \n\n– Drive up to the car park boom gate.\n– Pay $35 on entry at the boom gate via tap & go Debit/Credit Card.\n– View the Event Day parking period applicable to each upcoming event
URL:https://www.parraleagues.com.au/event/wanderers-vs-melbourne-victory-2/
CATEGORIES:CommBank
ATTACH;FMTTYPE=image/jpeg:https://www.parraleagues.com.au/wp-content/uploads/2023/03/wsw-v-melb-victory.jpg
END:VEVENT
END:VCALENDAR