BEGIN:VCALENDAR
VERSION:2.0
PRODID:-//Parramatta Leagues Club - ECPv6.15.16.1//NONSGML v1.0//EN
CALSCALE:GREGORIAN
METHOD:PUBLISH
X-ORIGINAL-URL:https://www.parraleagues.com.au
X-WR-CALDESC:Events for Parramatta Leagues Club
REFRESH-INTERVAL;VALUE=DURATION:PT1H
X-Robots-Tag:noindex
X-PUBLISHED-TTL:PT1H
BEGIN:VTIMEZONE
TZID:Australia/Sydney
BEGIN:STANDARD
TZOFFSETFROM:+1100
TZOFFSETTO:+1000
TZNAME:AEST
DTSTART:20250405T160000
END:STANDARD
BEGIN:DAYLIGHT
TZOFFSETFROM:+1000
TZOFFSETTO:+1100
TZNAME:AEDT
DTSTART:20251004T160000
END:DAYLIGHT
BEGIN:STANDARD
TZOFFSETFROM:+1100
TZOFFSETTO:+1000
TZNAME:AEST
DTSTART:20260404T160000
END:STANDARD
BEGIN:DAYLIGHT
TZOFFSETFROM:+1000
TZOFFSETTO:+1100
TZNAME:AEDT
DTSTART:20261003T160000
END:DAYLIGHT
BEGIN:STANDARD
TZOFFSETFROM:+1100
TZOFFSETTO:+1000
TZNAME:AEST
DTSTART:20270403T160000
END:STANDARD
BEGIN:DAYLIGHT
TZOFFSETFROM:+1000
TZOFFSETTO:+1100
TZNAME:AEDT
DTSTART:20271002T160000
END:DAYLIGHT
END:VTIMEZONE
BEGIN:VEVENT
DTSTART;VALUE=DATE:20260427
DTEND;VALUE=DATE:20260508
DTSTAMP:20260426T014535
CREATED:20260422T230015Z
LAST-MODIFIED:20260424T041535Z
UID:990007178-1777248000-1778198399@www.parraleagues.com.au
SUMMARY:Stonegrill Scotch Fillet Special
DESCRIPTION:Just $18.88 for all patrons\nSavour the ultimate steak experience with our Stonegrill special. \nEnjoy a juicy\, tender Scotch fillet cooked to your liking on a sizzling hot stone\, delivering maximum flavour in every bite. \nServed with your choice of chips\, mash or salad\, this is the perfect midweek treat at unbeatable value. \nAvailable Monday to Thursday\, lunch and dinner. \n27 April – 7 May 2026 \n  \nT&Cs apply. Valid Monday to Thursday lunch and dinner. Available 27 April – 7 May 2026. No further membership discount applies. Excludes takeaway. Not valid with any other offer. Subject to change and availability.
URL:https://www.parraleagues.com.au/event/stonegrill-scotch-fillet-special/
CATEGORIES:Promotions
ATTACH;FMTTYPE=image/png:https://www.parraleagues.com.au/wp-content/uploads/VSC-Apr2026-StonegrillSpecial-WebSquare.png
END:VEVENT
END:VCALENDAR