BEGIN:VCALENDAR
VERSION:2.0
PRODID:-//Parramatta Leagues Club - ECPv6.15.16.1//NONSGML v1.0//EN
CALSCALE:GREGORIAN
METHOD:PUBLISH
X-ORIGINAL-URL:https://www.parraleagues.com.au
X-WR-CALDESC:Events for Parramatta Leagues Club
REFRESH-INTERVAL;VALUE=DURATION:PT1H
X-Robots-Tag:noindex
X-PUBLISHED-TTL:PT1H
BEGIN:VTIMEZONE
TZID:UTC
BEGIN:STANDARD
TZOFFSETFROM:+0000
TZOFFSETTO:+0000
TZNAME:UTC
DTSTART:20210101T000000
END:STANDARD
END:VTIMEZONE
BEGIN:VTIMEZONE
TZID:UTC
BEGIN:STANDARD
TZOFFSETFROM:+0000
TZOFFSETTO:+0000
TZNAME:UTC
DTSTART:20210101T000000
END:STANDARD
END:VTIMEZONE
BEGIN:VTIMEZONE
TZID:Australia/Sydney
BEGIN:STANDARD
TZOFFSETFROM:+1100
TZOFFSETTO:+1000
TZNAME:AEST
DTSTART:20220402T160000
END:STANDARD
BEGIN:DAYLIGHT
TZOFFSETFROM:+1000
TZOFFSETTO:+1100
TZNAME:AEDT
DTSTART:20221001T160000
END:DAYLIGHT
BEGIN:STANDARD
TZOFFSETFROM:+1100
TZOFFSETTO:+1000
TZNAME:AEST
DTSTART:20230401T160000
END:STANDARD
BEGIN:DAYLIGHT
TZOFFSETFROM:+1000
TZOFFSETTO:+1100
TZNAME:AEDT
DTSTART:20230930T160000
END:DAYLIGHT
BEGIN:STANDARD
TZOFFSETFROM:+1100
TZOFFSETTO:+1000
TZNAME:AEST
DTSTART:20240406T160000
END:STANDARD
BEGIN:DAYLIGHT
TZOFFSETFROM:+1000
TZOFFSETTO:+1100
TZNAME:AEDT
DTSTART:20241005T160000
END:DAYLIGHT
END:VTIMEZONE
BEGIN:VTIMEZONE
TZID:Australia/Melbourne
BEGIN:STANDARD
TZOFFSETFROM:+1100
TZOFFSETTO:+1000
TZNAME:AEST
DTSTART:20200404T160000
END:STANDARD
BEGIN:DAYLIGHT
TZOFFSETFROM:+1000
TZOFFSETTO:+1100
TZNAME:AEDT
DTSTART:20201003T160000
END:DAYLIGHT
BEGIN:STANDARD
TZOFFSETFROM:+1100
TZOFFSETTO:+1000
TZNAME:AEST
DTSTART:20210403T160000
END:STANDARD
BEGIN:DAYLIGHT
TZOFFSETFROM:+1000
TZOFFSETTO:+1100
TZNAME:AEDT
DTSTART:20211002T160000
END:DAYLIGHT
BEGIN:STANDARD
TZOFFSETFROM:+1100
TZOFFSETTO:+1000
TZNAME:AEST
DTSTART:20220402T160000
END:STANDARD
BEGIN:DAYLIGHT
TZOFFSETFROM:+1000
TZOFFSETTO:+1100
TZNAME:AEDT
DTSTART:20221001T160000
END:DAYLIGHT
END:VTIMEZONE
BEGIN:VEVENT
DTSTART;TZID=UTC:20250808T093000
DTEND;TZID=UTC:20250808T120000
DTSTAMP:20260426T113620
CREATED:20220107T011528Z
LAST-MODIFIED:20250309T225457Z
UID:990004363-1754645400-1754654400@www.parraleagues.com.au
SUMMARY:Bingo & Charity Housie
DESCRIPTION:Play Charity Cash Housie and Support Learning Links! \nLooking for a fun way to give back while having the chance to win cash? Join us for Charity Cash Housie. \nWhen: Wednesday and Friday\, eyes down 9:30am\nWhere: The Bistro!\nCost: From just $10 to play\, you can enjoy an exciting morning of classic bingo while supporting a fantastic cause—Learning Links. \nWin Cash & Give Back Not only does Charity Cash Housie offer a chance to win exciting cash prizes\, but it also brings the community together for a morning of laughter\, social connection\, and goodwill. When you join our Charity Cash Housie sessions\, you’re not just playing for fun; you’re making a difference in the lives of children with learning difficulties. Learning Links is an incredible organisation dedicated to helping children overcome learning challenges and reach their full potential. Your participation helps fund vital educational programs\, support services\, and resources for families in need. \nJoin Us This Week! Bring your friends\, grab a coffee\, and start your day with a feel-good experience. Every game you play helps change a child’s future—so why not have fun while giving back? \nLet’s play\, win\, and support Learning Links together! \n*Bingo & Cash Housie will not take place on public holidays. Bingo & Cash Housie Rules available at Reception. Bingo can be played by persons under 18 years when accompanied and supervised by a Member or visitor of Parra Leagues who is playing Bingo. Subject to change.
URL:https://www.parraleagues.com.au/event/bingo-charity-housie-3/2025-08-08/
CATEGORIES:Weekly Activities
ATTACH;FMTTYPE=image/jpeg:https://www.parraleagues.com.au/wp-content/uploads/2022/01/Web-Square-600-x-600-px-3.jpg
END:VEVENT
BEGIN:VEVENT
DTSTART;TZID=UTC:20250507T120000
DTEND;TZID=UTC:20250920T200000
DTSTAMP:20260426T113620
CREATED:20220706T070114Z
LAST-MODIFIED:20250505T004414Z
UID:990005454-1746619200-1758398400@www.parraleagues.com.au
SUMMARY:The Bistro Member Specials
DESCRIPTION:Gather your friends and family to enjoy $20 Member specials at The Bistro Mondays to Wednesdays for lunch or dinner. \nMonday: Slow Cooked Beef Checks – served with Moroccan spiced cauliflower mash\, crispy fried onions\, mojo Verde\, charred broccolini\, almonds\, red wine jus \nTuesday: Chef’s Curry of the Day – served with raita\, naan bread and steamed jasmine rice \nWednesday: 250g Grain Fed Sirloin Steak Stonegrill –  served with super crunch chips\, salad\, your choice of sauce \nBook your table in The Bistro here. \n*T&Cs apply. Member’s price. No further discount applies. Subject to change.
URL:https://www.parraleagues.com.au/event/the-bistro-member-specials-2/2025-05-07/
CATEGORIES:Weekly Activities
ATTACH;FMTTYPE=image/jpeg:https://www.parraleagues.com.au/wp-content/uploads/2022/07/The-Bistro-Member-Specials-Web-Square-600-x-600-px.jpg
END:VEVENT
BEGIN:VEVENT
DTSTART;TZID=UTC:20250424T183000
DTEND;TZID=UTC:20260423T193000
DTSTAMP:20260426T113620
CREATED:20221006T054158Z
LAST-MODIFIED:20260118T230844Z
UID:990003161-1745519400-1776972600@www.parraleagues.com.au
SUMMARY:Trivia
DESCRIPTION:Do you know what BMW stands for? Or do you know the primary ingredient in hummus?\n\n\nJoin us in The Bistro for FREE and FUN trivia (and you might find out the answers).\nBring your family or get a group of know-it-all’s together to take on the trivia challenge and be the winners!\n\n\n\nRegistration begins at 6.30pm | Be ready to play by 7.30pm.\nIt’s completely free to play\, so book here now! Head over to our Bistro page to see what’s on offer for dinner.\n\nAnswers: BMW stands for Bavarian Motor Works and chickpeas are the main ingredient in hummus!\n*Trivia will not take place on public holidays.
URL:https://www.parraleagues.com.au/event/trivia-2/2025-04-24/
CATEGORIES:Weekly Activities
ATTACH;FMTTYPE=image/jpeg:https://www.parraleagues.com.au/wp-content/uploads/2021/02/Trivia-600x600px-Parramatta-Leagues-Club-V3.jpg
END:VEVENT
BEGIN:VEVENT
DTSTART;VALUE=DATE:20230504
DTEND;VALUE=DATE:20230505
DTSTAMP:20260426T113620
CREATED:20230419T101121Z
LAST-MODIFIED:20230419T111950Z
UID:990005623-1683158400-1683244799@www.parraleagues.com.au
SUMMARY:Star Wars Trivia
DESCRIPTION:How good is your Star Wars trivia? Put your knowledge to the test with a fun night for Star Wars Day. \nJoin us in The Bistro for FREE and have the chance to win some great prizes. Bring your family or get a group of know-it-all’s together to take on the trivia challenge and be the winners! \nRegistration begins at 6.30pm | Be ready to play by 7.30pm. \nIt’s completely free to play\, so book here now! Head over to our Bistro page to see what’s on offer for dinner. \nMay the force be with you! \nStar Wars trivia replaces our weekly trivia for 4 May only.
URL:https://www.parraleagues.com.au/event/star-wars-trivia/
CATEGORIES:Promotions,Weekly Activities
ATTACH;FMTTYPE=image/png:https://www.parraleagues.com.au/wp-content/uploads/2023/04/Untitled-design-52.png
END:VEVENT
BEGIN:VEVENT
DTSTART;TZID=UTC:20221109T093000
DTEND;TZID=UTC:20221109T120000
DTSTAMP:20260426T113620
CREATED:20220107T011007Z
LAST-MODIFIED:20221101T033252Z
UID:990004319-1667986200-1667995200@www.parraleagues.com.au
SUMMARY:Bingo & Charity Housie
DESCRIPTION:Where: The Bistro \nBingo & Cash Housie – Little Wings Charity Housie – Wednesday – $14 to play \nUp to $2\,000 to be won in Food & Beverage points and cash every session. Jackpot capped at $800 cash to be won in a number of calls (ask the host for latest info). If not won each session\, it reverts to a guaranteed $150 cash prize. \n$10/Book\, $2/Jackpot sheet and $2/BSG Rewards sheet – Members can use their Food & Beverage points or Parra points or cash/eftpos to play. Visitors can use cash/eftpos to play. \n– \n*Bingo & Cash Housie will not take place on public holidays. Bingo & Cash Housie Rules available at Reception. Bingo can be played by persons under 18 years when accompanied and supervised by a Member or visitor of Parra Leagues who is playing Bingo. Cash Housie is for 18+ players only. Subject to change
URL:https://www.parraleagues.com.au/event/bingo-charity-housie/2022-11-09/
CATEGORIES:Weekly Activities
ATTACH;FMTTYPE=image/jpeg:https://www.parraleagues.com.au/wp-content/uploads/2021/10/27191_2021_Bingo_Little-Wings.jpg
END:VEVENT
BEGIN:VEVENT
DTSTART;TZID=UTC:20220327T110000
DTEND;TZID=UTC:20220327T140000
DTSTAMP:20260426T113620
CREATED:20220312T050936Z
LAST-MODIFIED:20220312T050936Z
UID:990004812-1648378800-1648389600@www.parraleagues.com.au
SUMMARY:Tszyu v Gausha
DESCRIPTION:Sterlo’s Sports Bar is excited to show the World Title Eliminator between Tszyu v Gausha \nDate: Sunday 27 March \nTime: 11am \nWhy not grab a bite to eat while you’re at Sterlo’s for lunch. See our menu here.
URL:https://www.parraleagues.com.au/event/tszyu-v-gausha/
CATEGORIES:Weekly Activities
ATTACH;FMTTYPE=image/jpeg:https://www.parraleagues.com.au/wp-content/uploads/2022/03/Web.jpg
END:VEVENT
BEGIN:VEVENT
DTSTART;TZID=Australia/Melbourne:20211122T100000
DTEND;TZID=Australia/Melbourne:20211122T120000
DTSTAMP:20260426T113620
CREATED:20211021T232302Z
LAST-MODIFIED:20220112T042320Z
UID:990003213-1637575200-1637582400@www.parraleagues.com.au
SUMMARY:Bingo
DESCRIPTION:Where: The Bistro \nPlay every day from 10am for the chance to win great prizes each Bingo session at Parra Leagues. \nCost: $3 to play \nPrizes & Price – Over $500 to be won in Food & Beverage points\, vouchers and grocery prizes! Our Lucky Bingo Book Draw is exclusive to Members and consists of a spin on the Bingo Wheel for the chance to win either $70\, $50 or $25 in Bonus Points. \n$3/Full book | $1.50/Half book – Members can use their Food & Beverage points or Parra points or cash/eftpos to play. Visitors can use cash/eftpos to play. \n*Bingo & Cash Housie will not take place on public holidays. Bingo & Cash Housie Rules available at Reception. Bingo can be played by persons under 18 years when accompanied and supervised by a Member or visitor of Parra Leagues who is playing Bingo. Cash Housie is for 18+ players only. Subject to change.
URL:https://www.parraleagues.com.au/event/bingo/
CATEGORIES:Weekly Activities
ATTACH;FMTTYPE=image/jpeg:https://www.parraleagues.com.au/wp-content/uploads/2021/02/Bingo_600x600.jpeg
END:VEVENT
BEGIN:VEVENT
DTSTART;TZID=Australia/Melbourne:20211031T100000
DTEND;TZID=Australia/Melbourne:20211031T233000
DTSTAMP:20260426T113620
CREATED:20211011T043908Z
LAST-MODIFIED:20211011T043908Z
UID:990002976-1635674400-1635723000@www.parraleagues.com.au
SUMMARY:Beer of the Month
DESCRIPTION:Get your friends together and have a schooner of Pure Blonde for the price of a middy. \nSchooner of Pure Blonde $4.80 \nAvailable at all bars at Parra Leagues Club \n*Available at Parra Leagues Club\, from 11 October – 31 October 2021.
URL:https://www.parraleagues.com.au/event/beer-of-the-month/2021-10-31/
CATEGORIES:Weekly Activities
ATTACH;FMTTYPE=image/jpeg:https://www.parraleagues.com.au/wp-content/uploads/2021/10/2021_BeerOfTheMonth_SQ-copy.jpg
END:VEVENT
BEGIN:VEVENT
DTSTART;TZID=Australia/Melbourne:20211027T190000
DTEND;TZID=Australia/Melbourne:20211027T190000
DTSTAMP:20260426T113620
CREATED:20210504T062011Z
LAST-MODIFIED:20211101T223544Z
UID:990002934-1635361200-1635361200@www.parraleagues.com.au
SUMMARY:Bingo with Blake
DESCRIPTION:There’s the chance to win a share of $300 in Food and Beverage points AND Dining Vouchers each session to use at your Club*\n\n  \n  \nVenue: Watch Blake call bingo on Facebook Live\nWhen: Wednesday\nEyes Down: 7.00pm \n  \n  \n\nBingo Cost: FREE – 1 Full Book (Max 1 book per session\, per person) \n$3 for the additional booklet for purchase \nCLAIM YOUR FREE TICKET \nYour tickets will be emailed to you. \nPlay On Your Device – We recommend playing no more than 1 ticket per game on each device \nTo view and play your tickets directly on your phone\, tablet or computer\, we recommend using Adobe Acrobat Reader. To download Adobe Acrobat Reader use one of the following links: \n\nFor Apple devices (e.g. Iphone\, Ipad) https://apps.apple.com/au/app/adobe-acrobat-reader-for-pdf/id469337564\nFor Android devices (e.g. Samsung) https://play.google.com/store/apps/details?id=com.adobe.reader&hl=en_AU\nFor PC devices (including laptops) https://get.adobe.com/uk/reader/otherversions/\n\nOnce you have installed Adobe Acrobat Reader\, you can open your purchased ticket. \nYou may be prompted to select an application to open the ticket. Please ensure you select Adobe Acrobat Reader at this step. \nWhen playing\, simply touch a number and you will see a red cross appear. To unmark the number\, touch it again and the cross will disappear. \nAt the end of the game\, you can use the Clear button at the bottom of the screen to clear all numbers marked in preparation for the next game. \nPrint and Play – Print as many tickets as you like\, and mark them off the old-fashioned way \nAlternatively\, you can print copies of this ticket at home. Make sure you print enough copies for the session.\nFor example if you have entered a 10 game session you will need to print your page of tickets 10 times. \nFor our regular bingo players\, you may notice this is a little different to what you are used to. You will play the same page of 6 tickets in every game. To find out more\, watch our How To Play video at https://www.playbingo.net.au/howtoplay?venueID=PARRALEA \nWatch Blake call the numbers live https://www.facebook.com/ParramattaLeaguesClub/live/ \nImportantly\, if you have any technical issues DON’T PANIC! We have a register of all tickets in play\, and will ensure you don’t miss a claim. \n*Bingo With Blake rules apply.  Subject to change. \nAll winners must sign in at Parra Leagues Reception AND scan-in through the Service NSW app to claim their prizes.
URL:https://www.parraleagues.com.au/event/bingo-with-blake-2021-10-27/
CATEGORIES:Weekly Activities
ATTACH;FMTTYPE=image/jpeg:https://www.parraleagues.com.au/wp-content/uploads/2021/08/Bingo_with_Blake_Tuesday.jpg
END:VEVENT
BEGIN:VEVENT
DTSTART;TZID=Australia/Melbourne:20211027T100000
DTEND;TZID=Australia/Melbourne:20211027T120000
DTSTAMP:20260426T113620
CREATED:20211025T221254Z
LAST-MODIFIED:20211025T221457Z
UID:990003214-1635328800-1635336000@www.parraleagues.com.au
SUMMARY:Bingo\, Charity Housie & Raffle
DESCRIPTION:Cash Housie – Little Wings Charity Housie – Wednesday – $14 to play \nWhere: Pablo’s Restaurant \nUp to $2\,000 to be won in Food & Beverage points and cash every session. Jackpot capped at $800 cash to be won in a number of calls (ask the host for latest info). If not won each session\, it reverts to a guaranteed $150 cash prize. \n$10/Book\, $2/Jackpot sheet and $2/BSG Rewards sheet – Members can use their Food & Beverage points or Parra points or cash/eftpos to play. Visitors can use cash/eftpos to play. \nEnd of Month Charity Raffle held on the last Wednesday of the Month \nCost: $5 per ticket\, with 40% of proceeds going to Little Wings – Members can use their Food & Beverage points or Parra points or cash/eftpos to play. Visitors can use cash/eftpos to play.\nPrizes:  2 x Melbourne Cup Luncheon Tickets and a Lucky Door Prize \nYou must be present to win the prize! \n*Bingo & Cash Housie will not take place on public holidays. Bingo & Cash Housie Rules available at Reception. Bingo can be played by persons under 18 years when accompanied and supervised by a Member or visitor of Parra Leagues who is playing Bingo. Cash Housie is for 18+ players only. Subject to change.
URL:https://www.parraleagues.com.au/event/bingo-charity-housie-raffle/
CATEGORIES:Weekly Activities
ATTACH;FMTTYPE=image/jpeg:https://www.parraleagues.com.au/wp-content/uploads/2021/10/27191_2021_Bingo_WEB.jpg
END:VEVENT
BEGIN:VEVENT
DTSTART;VALUE=DATE:20210922
DTEND;VALUE=DATE:20210923
DTSTAMP:20260426T113620
CREATED:20210504T062011Z
LAST-MODIFIED:20211101T223707Z
UID:990002933-1632268800-1632355199@www.parraleagues.com.au
SUMMARY:Bingo with Blake
DESCRIPTION:Wednesday 5th May\n\nThere’s the chance to win a share of $300 in Food and Beverage points AND Dining Vouchers each session to use at your Club* \nVenue: Watch Blake call bingo on Facebook Live\nWhen: Wednesday\nEyes Down: 7.00pm \n\nBingo Cost: FREE – 1 Full Book (Max 1 book per session\, per person) \nCLAIM YOUR FREE TICKET \n  \nYour tickets will be emailed to you. \nPlay On Your Device – We recommend playing no more than 1 ticket per game on each device \nTo view and play your tickets directly on your phone\, tablet or computer\, we recommend using Adobe Acrobat Reader. To download Adobe Acrobat Reader use one of the following links: \n\nFor Apple devices (e.g. Iphone\, Ipad) https://apps.apple.com/au/app/adobe-acrobat-reader-for-pdf/id469337564\nFor Android devices (e.g. Samsung) https://play.google.com/store/apps/details?id=com.adobe.reader&hl=en_AU\nFor PC devices (including laptops) https://get.adobe.com/uk/reader/otherversions/\n\nOnce you have installed Adobe Acrobat Reader\, you can open your purchased ticket. \nYou may be prompted to select an application to open the ticket. Please ensure you select Adobe Acrobat Reader at this step. \nWhen playing\, simply touch a number and you will see a red cross appear. To unmark the number\, touch it again and the cross will disappear. \nAt the end of the game\, you can use the Clear button at the bottom of the screen to clear all numbers marked in preparation for the next game. \nPrint and Play – Print as many tickets as you like\, and mark them off the old-fashioned way \nAlternatively\, you can print copies of this ticket at home. Make sure you print enough copies for the session.\nFor example if you have entered a 10 game session you will need to print your page of tickets 10 times. \nFor our regular bingo players\, you may notice this is a little different to what you are used to. You will play the same page of 6 tickets in every game. To find out more\, watch our How To Play video at https://www.playbingo.net.au/howtoplay?venueID=PARRALEA \nWatch Blake call the numbers live https://www.facebook.com/ParramattaLeaguesClub/live/ \nImportantly\, if you have any technical issues DON’T PANIC! We have a register of all tickets in play\, and will ensure you don’t miss a claim. \n*Bingo With Blake rules apply.  Subject to change. \nAll winners must sign in at Parra Leagues Reception AND scan-in through the Service NSW app to claim their prizes
URL:https://www.parraleagues.com.au/event/bingo-with-blake-2021-09-22/
CATEGORIES:Weekly Activities
ATTACH;FMTTYPE=image/jpeg:https://www.parraleagues.com.au/wp-content/uploads/2021/02/bingowithblake_web.jpg
END:VEVENT
END:VCALENDAR