BEGIN:VCALENDAR
VERSION:2.0
PRODID:-//Parramatta Leagues Club - ECPv6.15.16.1//NONSGML v1.0//EN
CALSCALE:GREGORIAN
METHOD:PUBLISH
X-ORIGINAL-URL:https://www.parraleagues.com.au
X-WR-CALDESC:Events for Parramatta Leagues Club
REFRESH-INTERVAL;VALUE=DURATION:PT1H
X-Robots-Tag:noindex
X-PUBLISHED-TTL:PT1H
BEGIN:VTIMEZONE
TZID:UTC
BEGIN:STANDARD
TZOFFSETFROM:+0000
TZOFFSETTO:+0000
TZNAME:UTC
DTSTART:20240101T000000
END:STANDARD
END:VTIMEZONE
BEGIN:VTIMEZONE
TZID:Australia/Sydney
BEGIN:STANDARD
TZOFFSETFROM:+1100
TZOFFSETTO:+1000
TZNAME:AEST
DTSTART:20250405T160000
END:STANDARD
BEGIN:DAYLIGHT
TZOFFSETFROM:+1000
TZOFFSETTO:+1100
TZNAME:AEDT
DTSTART:20251004T160000
END:DAYLIGHT
BEGIN:STANDARD
TZOFFSETFROM:+1100
TZOFFSETTO:+1000
TZNAME:AEST
DTSTART:20260404T160000
END:STANDARD
BEGIN:DAYLIGHT
TZOFFSETFROM:+1000
TZOFFSETTO:+1100
TZNAME:AEDT
DTSTART:20261003T160000
END:DAYLIGHT
BEGIN:STANDARD
TZOFFSETFROM:+1100
TZOFFSETTO:+1000
TZNAME:AEST
DTSTART:20270403T160000
END:STANDARD
BEGIN:DAYLIGHT
TZOFFSETFROM:+1000
TZOFFSETTO:+1100
TZNAME:AEDT
DTSTART:20271002T160000
END:DAYLIGHT
END:VTIMEZONE
BEGIN:VEVENT
DTSTART;TZID=UTC:20250515T183000
DTEND;TZID=UTC:20260514T193000
DTSTAMP:20260425T204611
CREATED:20221006T054158Z
LAST-MODIFIED:20260118T230844Z
UID:990003164-1747333800-1778787000@www.parraleagues.com.au
SUMMARY:Trivia
DESCRIPTION:Do you know what BMW stands for? Or do you know the primary ingredient in hummus?\n\n\nJoin us in The Bistro for FREE and FUN trivia (and you might find out the answers).\nBring your family or get a group of know-it-all’s together to take on the trivia challenge and be the winners!\n\n\n\nRegistration begins at 6.30pm | Be ready to play by 7.30pm.\nIt’s completely free to play\, so book here now! Head over to our Bistro page to see what’s on offer for dinner.\n\nAnswers: BMW stands for Bavarian Motor Works and chickpeas are the main ingredient in hummus!\n*Trivia will not take place on public holidays.
URL:https://www.parraleagues.com.au/event/trivia-2/2025-05-15/
CATEGORIES:Weekly Activities
ATTACH;FMTTYPE=image/jpeg:https://www.parraleagues.com.au/wp-content/uploads/2021/02/Trivia-600x600px-Parramatta-Leagues-Club-V3.jpg
END:VEVENT
BEGIN:VEVENT
DTSTART;TZID=Australia/Sydney:20260105T093000
DTEND;TZID=Australia/Sydney:20261225T120000
DTSTAMP:20260425T204611
CREATED:20260105T060208Z
LAST-MODIFIED:20260118T232214Z
UID:990007081-1767605400-1798200000@www.parraleagues.com.au
SUMMARY:Bingo
DESCRIPTION:Where: The Bistro \nPlay every day from 9.30am for the chance to win great prizes each Bingo session at Parra Leagues. \nCost: $3 to play \nPrizes & Price – Over $500 to be won in Food & Beverage points & vouchers! \n$3/Full book | $1.50/Half book – Members can use their Food & Beverage points or Parra points or cash/eftpos to play. Visitors can use cash/eftpos to play. \n*Bingo & Cash Housie will not take place on public holidays. Bingo & Cash Housie Rules available at Reception. Bingo can be played by persons under 18 years when accompanied and supervised by a Member or visitor of Parra Leagues who is playing Bingo. Subject to change.
URL:https://www.parraleagues.com.au/event/bingo-3/
CATEGORIES:Weekly Activities
ATTACH;FMTTYPE=image/jpeg:https://www.parraleagues.com.au/wp-content/uploads/2022/01/New-Bingo-Artwork-Bistro-600x600px-Parramatta-Leagues-Club-V2.jpg
END:VEVENT
BEGIN:VEVENT
DTSTART;VALUE=DATE:20260129
DTEND;VALUE=DATE:20261005
DTSTAMP:20260425T204611
CREATED:20260129T052538Z
LAST-MODIFIED:20260311T000438Z
UID:990007088-1769644800-1791158399@www.parraleagues.com.au
SUMMARY:NRL Footy Tipping Competition!
DESCRIPTION:Get ready to test your NRL knowledge and compete for some epic prizes with the 2026 PARRA Members NRL Footy Tipping Competition! \nOpen to all Members of Parramatta Leagues Club\, Dural Club and Vikings Sports Club\, this is your chance to go head-to-head with fellow fans all season long for bragging rights – and win some fantastic prizes. \nWhether you’re a die-hard Parramatta Eels supporter or just love following the NRL\, tipping is the perfect way to make every round more exciting. \nPick your winners each week\, climb the leaderboard and see how your footy instincts stack up against other PARRA Members. \nThis year\, we’re raising the stakes with some awesome prizes up for grabs: \n\n1st Prize: $500 Gift Card + a Signed 2026 Parramatta Eels Jersey\n2nd Prize: $250 Gift Card\n3rd Prize: $100 Gift Card\n\nIt’s completely free to enter\, and joining only takes a few minutes to join the competition. \nHow to Join the 2026 PARRA Members Footy Tipping Comp: \n\nGo to https://www.iTipFooty.com.au\nClick REGISTER if you don’t already have an iTipFooty account\nOnce registered\, log in and click JOIN COMP\nEnter Comp #105253 and Password: PARRA2026\nClick Join Comp – and you’re in!\n\nSome general ground rules of the comp: \n\nAll tips must be in by the first game of the round (Keep in mind Thursday games!)\nAll Tipsters will receive one Joker for the season\nTipsters cannot see each other’s tips until the end of the round\n\nThat’s it! You’re ready to start tipping and chasing glory all season long. \nSo gather your footy knowledge\, back your instincts and get involved. \nJoin the 2026 PARRA Members NRL Footy Tipping Competition today and make every try\, tackle and goal count! 🏉
URL:https://www.parraleagues.com.au/event/nrl-footy-tipping-competition/
CATEGORIES:Special Events
ATTACH;FMTTYPE=image/png:https://www.parraleagues.com.au/wp-content/uploads/members-tipping.png
END:VEVENT
BEGIN:VEVENT
DTSTART;VALUE=DATE:20260408
DTEND;VALUE=DATE:20260601
DTSTAMP:20260425T204611
CREATED:20260408T034503Z
LAST-MODIFIED:20260415T040706Z
UID:990007173-1775606400-1780271999@www.parraleagues.com.au
SUMMARY:Win a $9\,999 Solar System with SipEnergy
DESCRIPTION:Parramatta Leagues Club has partnered with SipEnergy to give members the chance to win big — with a major prize that could power your home for years to come. \n🎉 What You Could Win\n\n🥇 First Prize (1 Winner) \n\nWin a premium 9.9kW SipEnergy Solar System\, professionally installed on your home or business — valued up to $9\,999\nThis includes:\n\n✅ 27 high-efficiency Tier 1 solar panels✅ Premium inverter technology✅ Professional installation by certified technicians✅ 10-year workmanship warranty✅ Full system monitoring capabilities\n\n\n\n  \n🥈 Second Prize (1 Winner) \n🎟️ $500 Parramatta Leagues Club or Club Shop Gift VoucherRedeemable on food\, beverages\, merchandise\, or experiences at Parramatta Leagues Club \n  \n🥉 Third Prize (1 Winner) \n🎫 2 x Tickets to a Parramatta Eels Game (2026 Season) \n\n🎟️ How to Enter \nIf you’re a member\, simply head to the SipEnergy website below to enter for FREE! \n			\n				ENTER NOW\n			\n				\n				\n				\n				\n				👉 Not a member? Join today to enter. \nWe encourage all members to take advantage of the offer if it suits you\, however we strongly recommend that you undertake your own due diligence before proceeding. \n⚡ Why SipEnergy? \nSipEnergy are experts in delivering high-quality solar solutions\, helping households and businesses reduce energy costs while investing in a more sustainable future. \n*T&C’s apply. \nThis promotion is an exclusive offer made available to our members. While we’re pleased to share opportunities that may benefit you\, please be aware that SIP Energy is a third-party provider and operates independently of our Club. \nBy engaging with this offer\, you may be providing your personal information directly to SIP Energy. The Club is not affiliated with SIP Energy and does not take responsibility for their services\, offers\, or how your information is used.
URL:https://www.parraleagues.com.au/event/sipenergy/
CATEGORIES:Special Events
ATTACH;FMTTYPE=image/png:https://www.parraleagues.com.au/wp-content/uploads/PLC2.png
END:VEVENT
BEGIN:VEVENT
DTSTART;VALUE=DATE:20260530
DTEND;VALUE=DATE:20260531
DTSTAMP:20260425T204611
CREATED:20260415T232154Z
LAST-MODIFIED:20260417T011119Z
UID:990007177-1780099200-1780185599@www.parraleagues.com.au
SUMMARY:Balmain West Tigers vs Canterbury-Bankstown Bulldogs
DESCRIPTION:Balmain West Tigers take on the Canterbury-Bankstown Bulldogs at CommBank Stadium on the Saturday 30th May. \nHeading to the game? Parra Leagues is your pre-game destination hub! Whether you’re after a bite to eat\, a place to chill with mates\, or looking to beat the parking chaos – we’ve got you covered. \nDate: 30th May 2026\nKick Off: 5:30pm \nDining Services: \n\nThe Bistro menu \n\n– Lunch 11:30am – 2:30pm\n– Dinner 3:00pm – 9:00pm\n\n\nK’s Noodle Bar menu\n\n– Lunch 11:30am – 2:30pm\n– Dinner 3:00pm – 9:00pm\n\n\nJacks Bar & Grill menu \n\n– Open 12:00pm – 9:00pm\n\n\nSterlo’s Sports Bar menu\n\n– Open from 12:00pm till late\n\n\nMembers Lounge menu\n\n– Open from 9:00am till late\n\n\n\n  \nCar Park Entry Details \nAvoid the crowds and enjoy FREE car parking when entering between 9:00am and 2:30pm. Car park boom gates will be lifted after the commencement of the CommBank Stadium event at 6:00pm. \nParra Leagues Members $20 from 2:30pm to 6:00pm \n\n– Insert or scan your Parra Leagues Membership card at the car park boom gate.\n– The screen will then indicate the $20 discounted rate.\n– Pay on entry at the boom gate via tap & go Debit/Credit Card\n– You must be a Parra Leagues Member with a valid Membership card\, prior to attending Parra Leagues on the Event Day to be eligible for the Membership rates. You will need your digital or printed Membership card in order to gain entry at the boom gate.\n\n  \nVisitors $35 from 2:30pm to 6:00pm \n\n– Drive up to the car park boom gate.\n– Pay $35 on entry at the boom gate via tap & go Debit/Credit Card.
URL:https://www.parraleagues.com.au/event/balmain-west-tigers-vs-canterbury-bankstown-bulldogs/
CATEGORIES:CommBank
ATTACH;FMTTYPE=image/png:https://www.parraleagues.com.au/wp-content/uploads/tigers-v-bulldogs.png
END:VEVENT
BEGIN:VEVENT
DTSTART;VALUE=DATE:20260531
DTEND;VALUE=DATE:20260601
DTSTAMP:20260425T204611
CREATED:20260319T010521Z
LAST-MODIFIED:20260319T012837Z
UID:990007111-1780185600-1780271999@www.parraleagues.com.au
SUMMARY:Super Sunday
DESCRIPTION:$10\,000 Cash Giveaway\nMake your Sundays count with Super Sunday your monthly chance to win big. \nFrom 3PM\, Super Sunday brings the excitement with your chance to win a share of $10\,000 in cash. \n💸 10 winners take home $1\,000 each📅 Last Sunday of every month🕒 From 3:00pm \nMake a day of it and enjoy everything the Club has to offer\, from tasty meals and fresh cocktails in the Members Lounge open all afternoon\, to LIVE Footy in Sterlo’s Sports Bar. Keep the family entertained at Kicks Tenpin Bowling & Arcade\, then settle in for Bistro dining from 5:30pm. \n🎟️ How to Enter\n\nSwipe your membership card at the kiosk (Anytime after 9am)\nBe in the venue\nDraws begin from 3:00pm\n\n📅 First draw: Sunday 29 March 2026 \n👉 Your Sunday\, your way. With a chance to win. \nT&Cs apply. See reception for details. T/P00686
URL:https://www.parraleagues.com.au/event/super-sunday/2026-05-31/
CATEGORIES:Promotions
ATTACH;FMTTYPE=image/jpeg:https://www.parraleagues.com.au/wp-content/uploads/PLC_SuperSunday_2026_Resizes_SQ_03.jpg
END:VEVENT
END:VCALENDAR